BEGIN:VCALENDAR
VERSION:2.0
PRODID:-//CAS - Choral Arts Singers - ECPv6.15.20//NONSGML v1.0//EN
CALSCALE:GREGORIAN
METHOD:PUBLISH
X-WR-CALNAME:CAS - Choral Arts Singers
X-ORIGINAL-URL:https://concertarts.org
X-WR-CALDESC:Events for CAS - Choral Arts Singers
REFRESH-INTERVAL;VALUE=DURATION:PT1H
X-Robots-Tag:noindex
X-PUBLISHED-TTL:PT1H
BEGIN:VTIMEZONE
TZID:America/Chicago
BEGIN:DAYLIGHT
TZOFFSETFROM:-0600
TZOFFSETTO:-0500
TZNAME:CDT
DTSTART:20190310T080000
END:DAYLIGHT
BEGIN:STANDARD
TZOFFSETFROM:-0500
TZOFFSETTO:-0600
TZNAME:CST
DTSTART:20191103T070000
END:STANDARD
BEGIN:DAYLIGHT
TZOFFSETFROM:-0600
TZOFFSETTO:-0500
TZNAME:CDT
DTSTART:20200308T080000
END:DAYLIGHT
BEGIN:STANDARD
TZOFFSETFROM:-0500
TZOFFSETTO:-0600
TZNAME:CST
DTSTART:20201101T070000
END:STANDARD
BEGIN:DAYLIGHT
TZOFFSETFROM:-0600
TZOFFSETTO:-0500
TZNAME:CDT
DTSTART:20210314T080000
END:DAYLIGHT
BEGIN:STANDARD
TZOFFSETFROM:-0500
TZOFFSETTO:-0600
TZNAME:CST
DTSTART:20211107T070000
END:STANDARD
BEGIN:DAYLIGHT
TZOFFSETFROM:-0600
TZOFFSETTO:-0500
TZNAME:CDT
DTSTART:20220313T080000
END:DAYLIGHT
BEGIN:STANDARD
TZOFFSETFROM:-0500
TZOFFSETTO:-0600
TZNAME:CST
DTSTART:20221106T070000
END:STANDARD
BEGIN:DAYLIGHT
TZOFFSETFROM:-0600
TZOFFSETTO:-0500
TZNAME:CDT
DTSTART:20230312T080000
END:DAYLIGHT
BEGIN:STANDARD
TZOFFSETFROM:-0500
TZOFFSETTO:-0600
TZNAME:CST
DTSTART:20231105T070000
END:STANDARD
BEGIN:DAYLIGHT
TZOFFSETFROM:-0600
TZOFFSETTO:-0500
TZNAME:CDT
DTSTART:20240310T080000
END:DAYLIGHT
BEGIN:STANDARD
TZOFFSETFROM:-0500
TZOFFSETTO:-0600
TZNAME:CST
DTSTART:20241103T070000
END:STANDARD
BEGIN:DAYLIGHT
TZOFFSETFROM:-0600
TZOFFSETTO:-0500
TZNAME:CDT
DTSTART:20250309T080000
END:DAYLIGHT
BEGIN:STANDARD
TZOFFSETFROM:-0500
TZOFFSETTO:-0600
TZNAME:CST
DTSTART:20251102T070000
END:STANDARD
END:VTIMEZONE
BEGIN:VEVENT
DTSTART;TZID=America/Chicago:20240909T190000
DTEND;TZID=America/Chicago:20240909T210000
DTSTAMP:20260422T125550
CREATED:20240815T031939Z
LAST-MODIFIED:20240815T031939Z
UID:849-1725908400-1725915600@concertarts.org
SUMMARY:1st practice of Semester!  New Members welcome!
DESCRIPTION:Come sing with us for our 52nd year!! Enjoy making great choral music with the Choral Arts Singers. \nJoin our 1st practice\, Mon Sep.9 at 7pm. Connection Christian Church\, 1332 Feise Road\, Dardenne Prairie\, MO. \nRehearsals are on Mondays 7-9pm\, Sept-Dec with Holiday concerts in December. \nNo audition is required\, just a love of singing. Ages high school and older are invited to join. \nContact us at- Web: www.concertarts.org; Email: concertartsa@gmail.com; Facebook: Choral Arts Singers
URL:https://concertarts.org/event/1st-practice-of-semester-new-members-welcome/
LOCATION:Connection Christian Church\, 1332 Feise Road\, Dardenne Prairie\, MO\, 63368\, United States
CATEGORIES:New Members Wecome!,Practice
ATTACH;FMTTYPE=image/jpeg:https://concertarts.org/wp-content/uploads/2020/09/ChoirPractice.jpg
END:VEVENT
BEGIN:VEVENT
DTSTART;TZID=America/Chicago:20240115T190000
DTEND;TZID=America/Chicago:20240115T210000
DTSTAMP:20260422T125551
CREATED:20240103T060653Z
LAST-MODIFIED:20240115T203446Z
UID:793-1705345200-1705352400@concertarts.org
SUMMARY:Cancelled! - 2nd Practice!  Not too late!
DESCRIPTION:Due to the extreme cold\, this practice has been cancelled!   \n  \nHopefully you are all ready to start singing again after the break. We all need to be rested and healthy so beware of those viruses lurking about. \nWe are looking at spring concerts sometime in April\, 2024. We will let you all know when we get things solidified. \nWe are hoping for some new singers to join us\, so if you know of anyone\, please invite them to the first practice\, share CAS website\, FB page or Jeffrey’s contact information. \nSee you Mondays at Connection Christian Church in Dardenne Prairie. \nTime: 7PM \nPlace: Connection Christian Church\n1332 Feise Rd.\nO’Fallon\, Mo 63368
URL:https://concertarts.org/event/2nd-practice-not-too-late/
LOCATION:Connection Christian Church\, 1332 Feise Road\, Dardenne Prairie\, MO\, 63368\, United States
CATEGORIES:New Members Wecome!,Practice
ATTACH;FMTTYPE=image/jpeg:https://concertarts.org/wp-content/uploads/2020/09/ChoirPractice.jpg
END:VEVENT
BEGIN:VEVENT
DTSTART;TZID=America/Chicago:20240108T190000
DTEND;TZID=America/Chicago:20240108T210000
DTSTAMP:20260422T125551
CREATED:20240103T060428Z
LAST-MODIFIED:20240115T203346Z
UID:791-1704740400-1704747600@concertarts.org
SUMMARY:Cancelled - 1st Practice!  Please attend!
DESCRIPTION:Due to weather\, this practice has been cancelled. \nHopefully you are all ready to start singing again after the break. We all need to be rested and healthy so beware of those viruses lurking about. \nWe are looking at spring concerts sometime in April\, 2024. We will let you all know when we get things solidified. \nWe are hoping for some new singers to join us\, so if you know of anyone\, please invite them to the first practice\, share CAS website\, FB page or Jeffrey’s contact information. \nSee you January 8\, 2024 at Connection Christian Church in Dardenne Prairie. \nTime: 7PM \nPlace: Connection Christian Church\n1332 Feise Rd.\nO’Fallon\, Mo 63368
URL:https://concertarts.org/event/1st-practice-please-attend/
LOCATION:Connection Christian Church\, 1332 Feise Road\, Dardenne Prairie\, MO\, 63368\, United States
CATEGORIES:New Members Wecome!,Practice
ATTACH;FMTTYPE=image/jpeg:https://concertarts.org/wp-content/uploads/2020/09/ChoirPractice.jpg
END:VEVENT
BEGIN:VEVENT
DTSTART;TZID=America/Chicago:20220829T190000
DTEND;TZID=America/Chicago:20220829T210000
DTSTAMP:20260422T125551
CREATED:20220801T031007Z
LAST-MODIFIED:20220801T031111Z
UID:630-1661799600-1661806800@concertarts.org
SUMMARY:1st meeting of Semester! New Members welcome!
DESCRIPTION:Come sing with us! It is our 50th Anniversary celebration for the 2022-2023 season\, and we would love to have you join us as a member.\n\nWe’re a fun group of people that enjoys singing good choral music in a variety of styles.\nTraveling to NYC June 2023 to sing at Carnegie Hall !!\nRehearsals on Monday nights 7-9pm.\nCheck us out at our 1st meeting of the season – we’d love to meet you:\n\nMon. Aug. 29 at 7pm\nConnection Christian Church\n1332 Feise Rd.\, O’Fallon\, MO\n\n\nTwo performances each semester—\n\nHoliday concerts in December\nSpring Performances in April
URL:https://concertarts.org/event/1st-meeting-of-semester-new-members-welcome/
LOCATION:Connection Christian Church\, 1332 Feise Road\, Dardenne Prairie\, MO\, 63368\, United States
CATEGORIES:New Members Wecome!,Practice
ATTACH;FMTTYPE=image/jpeg:https://concertarts.org/wp-content/uploads/2022/07/50th-Anniversary-Flier-banner-scaled.jpg
END:VEVENT
BEGIN:VEVENT
DTSTART;TZID=America/Chicago:20220425T190000
DTEND;TZID=America/Chicago:20220425T210000
DTSTAMP:20260422T125551
CREATED:20220210T023033Z
LAST-MODIFIED:20221116T223741Z
UID:529-1650913200-1650920400@concertarts.org
SUMMARY:Practice - LOCATION - Wentzville United Methodist
DESCRIPTION:We’d love to have you come practice with us.  🙂 \n  \nPlease note\, this will be at Wentzville United Methodist.
URL:https://concertarts.org/event/practice-24/
LOCATION:Wentzville United Methodist Church\, 725 Wall St\, Wentzville\, MO\, 63385\, United States
CATEGORIES:New Members Wecome!,Practice
END:VEVENT
BEGIN:VEVENT
DTSTART;TZID=America/Chicago:20220418T190000
DTEND;TZID=America/Chicago:20220418T210000
DTSTAMP:20260422T125551
CREATED:20220210T023009Z
LAST-MODIFIED:20221116T224148Z
UID:526-1650308400-1650315600@concertarts.org
SUMMARY:Practice
DESCRIPTION:We’d love to have you come practice with us.  🙂
URL:https://concertarts.org/event/practice-23/
LOCATION:Connection Christian Church\, 1332 Feise Road\, Dardenne Prairie\, MO\, 63368\, United States
CATEGORIES:New Members Wecome!,Practice
END:VEVENT
BEGIN:VEVENT
DTSTART;TZID=America/Chicago:20220411T190000
DTEND;TZID=America/Chicago:20220411T210000
DTSTAMP:20260422T125551
CREATED:20220210T022919Z
LAST-MODIFIED:20221116T230944Z
UID:518-1649703600-1649710800@concertarts.org
SUMMARY:Practice
DESCRIPTION:We’d love to have you come practice with us.  🙂
URL:https://concertarts.org/event/practice-22/
LOCATION:Connection Christian Church\, 1332 Feise Road\, Dardenne Prairie\, MO\, 63368\, United States
CATEGORIES:New Members Wecome!,Practice
END:VEVENT
BEGIN:VEVENT
DTSTART;TZID=America/Chicago:20220404T190000
DTEND;TZID=America/Chicago:20220404T210000
DTSTAMP:20260422T125551
CREATED:20220210T022857Z
LAST-MODIFIED:20221116T230944Z
UID:516-1649098800-1649106000@concertarts.org
SUMMARY:Practice
DESCRIPTION:We’d love to have you come practice with us.  🙂
URL:https://concertarts.org/event/practice-21/
LOCATION:Connection Christian Church\, 1332 Feise Road\, Dardenne Prairie\, MO\, 63368\, United States
CATEGORIES:New Members Wecome!,Practice
END:VEVENT
BEGIN:VEVENT
DTSTART;TZID=America/Chicago:20220328T190000
DTEND;TZID=America/Chicago:20220328T210000
DTSTAMP:20260422T125551
CREATED:20220210T022839Z
LAST-MODIFIED:20221116T230944Z
UID:515-1648494000-1648501200@concertarts.org
SUMMARY:Practice
DESCRIPTION:We’d love to have you come practice with us.  🙂
URL:https://concertarts.org/event/practice-20/
LOCATION:Connection Christian Church\, 1332 Feise Road\, Dardenne Prairie\, MO\, 63368\, United States
CATEGORIES:New Members Wecome!,Practice
END:VEVENT
BEGIN:VEVENT
DTSTART;TZID=America/Chicago:20220321T190000
DTEND;TZID=America/Chicago:20220321T210000
DTSTAMP:20260422T125551
CREATED:20220210T022819Z
LAST-MODIFIED:20221116T230944Z
UID:514-1647889200-1647896400@concertarts.org
SUMMARY:Practice
DESCRIPTION:We’d love to have you come practice with us.  🙂
URL:https://concertarts.org/event/practice-19/
LOCATION:Connection Christian Church\, 1332 Feise Road\, Dardenne Prairie\, MO\, 63368\, United States
CATEGORIES:New Members Wecome!,Practice
END:VEVENT
BEGIN:VEVENT
DTSTART;TZID=America/Chicago:20220314T190000
DTEND;TZID=America/Chicago:20220314T210000
DTSTAMP:20260422T125551
CREATED:20220210T022756Z
LAST-MODIFIED:20221116T230944Z
UID:513-1647284400-1647291600@concertarts.org
SUMMARY:Practice
DESCRIPTION:We’d love to have you come practice with us.  🙂
URL:https://concertarts.org/event/practice-18/
LOCATION:Connection Christian Church\, 1332 Feise Road\, Dardenne Prairie\, MO\, 63368\, United States
CATEGORIES:New Members Wecome!,Practice
END:VEVENT
BEGIN:VEVENT
DTSTART;TZID=America/Chicago:20220307T190000
DTEND;TZID=America/Chicago:20220307T210000
DTSTAMP:20260422T125551
CREATED:20220210T022734Z
LAST-MODIFIED:20221116T230944Z
UID:512-1646679600-1646686800@concertarts.org
SUMMARY:Practice
DESCRIPTION:We’d love to have you come practice with us.  🙂
URL:https://concertarts.org/event/practice-17/
LOCATION:Connection Christian Church\, 1332 Feise Road\, Dardenne Prairie\, MO\, 63368\, United States
CATEGORIES:New Members Wecome!,Practice
END:VEVENT
BEGIN:VEVENT
DTSTART;TZID=America/Chicago:20220228T190000
DTEND;TZID=America/Chicago:20220228T210000
DTSTAMP:20260422T125551
CREATED:20220210T021200Z
LAST-MODIFIED:20221116T230944Z
UID:511-1646074800-1646082000@concertarts.org
SUMMARY:Practice
DESCRIPTION:We’d love to have you come practice with us.  🙂
URL:https://concertarts.org/event/practice-16/
LOCATION:Connection Christian Church\, 1332 Feise Road\, Dardenne Prairie\, MO\, 63368\, United States
CATEGORIES:New Members Wecome!,Practice
END:VEVENT
BEGIN:VEVENT
DTSTART;TZID=America/Chicago:20220221T190000
DTEND;TZID=America/Chicago:20220221T210000
DTSTAMP:20260422T125551
CREATED:20220210T021005Z
LAST-MODIFIED:20221116T230944Z
UID:510-1645470000-1645477200@concertarts.org
SUMMARY:Practice
DESCRIPTION:We’d love to have you come practice with us.  🙂
URL:https://concertarts.org/event/practice-15/
LOCATION:Connection Christian Church\, 1332 Feise Road\, Dardenne Prairie\, MO\, 63368\, United States
CATEGORIES:New Members Wecome!,Practice
END:VEVENT
BEGIN:VEVENT
DTSTART;TZID=America/Chicago:20220214T190000
DTEND;TZID=America/Chicago:20220214T210000
DTSTAMP:20260422T125551
CREATED:20220210T020842Z
LAST-MODIFIED:20221116T230944Z
UID:508-1644865200-1644872400@concertarts.org
SUMMARY:Practice
DESCRIPTION:We’d love to have you come practice with us.  🙂
URL:https://concertarts.org/event/practice-14/
LOCATION:Connection Christian Church\, 1332 Feise Road\, Dardenne Prairie\, MO\, 63368\, United States
CATEGORIES:New Members Wecome!,Practice
END:VEVENT
BEGIN:VEVENT
DTSTART;TZID=America/Chicago:20220207T190000
DTEND;TZID=America/Chicago:20220207T210000
DTSTAMP:20260422T125551
CREATED:20220210T020627Z
LAST-MODIFIED:20221116T230944Z
UID:505-1644260400-1644267600@concertarts.org
SUMMARY:Practice
DESCRIPTION:We’d love to have you come practice with us.  🙂
URL:https://concertarts.org/event/practice-13/
LOCATION:Connection Christian Church\, 1332 Feise Road\, Dardenne Prairie\, MO\, 63368\, United States
CATEGORIES:New Members Wecome!,Practice
END:VEVENT
BEGIN:VEVENT
DTSTART;TZID=America/Chicago:20220131T190000
DTEND;TZID=America/Chicago:20220131T210000
DTSTAMP:20260422T125551
CREATED:20220203T015734Z
LAST-MODIFIED:20221116T230944Z
UID:503-1643655600-1643662800@concertarts.org
SUMMARY:Practice
DESCRIPTION:We’d love to have you come practice with us.  🙂
URL:https://concertarts.org/event/practice-12/
LOCATION:Connection Christian Church\, 1332 Feise Road\, Dardenne Prairie\, MO\, 63368\, United States
CATEGORIES:New Members Wecome!,Practice
END:VEVENT
BEGIN:VEVENT
DTSTART;TZID=America/Chicago:20220124T190000
DTEND;TZID=America/Chicago:20220124T210000
DTSTAMP:20260422T125551
CREATED:20220111T022732Z
LAST-MODIFIED:20220111T022732Z
UID:492-1643050800-1643058000@concertarts.org
SUMMARY:Practice
DESCRIPTION:We’d love to have you come practice with us.  🙂
URL:https://concertarts.org/event/practice-11/
LOCATION:Connection Christian Church\, 1332 Feise Road\, Dardenne Prairie\, MO\, 63368\, United States
CATEGORIES:New Members Wecome!,Practice
END:VEVENT
BEGIN:VEVENT
DTSTART;TZID=America/Chicago:20220117T190000
DTEND;TZID=America/Chicago:20220117T210000
DTSTAMP:20260422T125551
CREATED:20220111T022933Z
LAST-MODIFIED:20220111T022933Z
UID:494-1642446000-1642453200@concertarts.org
SUMMARY:NO Practice
DESCRIPTION:Due to the recent Covid surge\, we are delaying the first practice until January 24th.  See you then!  🙂
URL:https://concertarts.org/event/no-practice/
LOCATION:Connection Christian Church\, 1332 Feise Road\, Dardenne Prairie\, MO\, 63368\, United States
CATEGORIES:New Members Wecome!,Practice
END:VEVENT
BEGIN:VEVENT
DTSTART;TZID=America/Chicago:20211129T190000
DTEND;TZID=America/Chicago:20211129T210000
DTSTAMP:20260422T125551
CREATED:20211001T030721Z
LAST-MODIFIED:20211001T030721Z
UID:373-1638212400-1638219600@concertarts.org
SUMMARY:Practice
DESCRIPTION:We’d love to have you come practice with us.  🙂
URL:https://concertarts.org/event/practice-10/
LOCATION:Connection Christian Church\, 1332 Feise Road\, Dardenne Prairie\, MO\, 63368\, United States
CATEGORIES:New Members Wecome!,Practice
END:VEVENT
BEGIN:VEVENT
DTSTART;TZID=America/Chicago:20211122T190000
DTEND;TZID=America/Chicago:20211122T210000
DTSTAMP:20260422T125551
CREATED:20211001T030659Z
LAST-MODIFIED:20211001T030659Z
UID:371-1637607600-1637614800@concertarts.org
SUMMARY:Practice
DESCRIPTION:We’d love to have you come practice with us.  🙂
URL:https://concertarts.org/event/practice-9/
LOCATION:Connection Christian Church\, 1332 Feise Road\, Dardenne Prairie\, MO\, 63368\, United States
CATEGORIES:New Members Wecome!,Practice
END:VEVENT
BEGIN:VEVENT
DTSTART;TZID=America/Chicago:20211115T190000
DTEND;TZID=America/Chicago:20211115T210000
DTSTAMP:20260422T125551
CREATED:20211001T030636Z
LAST-MODIFIED:20211001T030636Z
UID:369-1637002800-1637010000@concertarts.org
SUMMARY:Practice
DESCRIPTION:We’d love to have you come practice with us.  🙂
URL:https://concertarts.org/event/practice-8/
LOCATION:Connection Christian Church\, 1332 Feise Road\, Dardenne Prairie\, MO\, 63368\, United States
CATEGORIES:New Members Wecome!,Practice
END:VEVENT
BEGIN:VEVENT
DTSTART;TZID=America/Chicago:20211108T190000
DTEND;TZID=America/Chicago:20211108T210000
DTSTAMP:20260422T125551
CREATED:20211001T025733Z
LAST-MODIFIED:20211001T025733Z
UID:365-1636398000-1636405200@concertarts.org
SUMMARY:Practice
DESCRIPTION:We’d love to have you come practice with us.  🙂
URL:https://concertarts.org/event/practice-7/
LOCATION:Connection Christian Church\, 1332 Feise Road\, Dardenne Prairie\, MO\, 63368\, United States
CATEGORIES:New Members Wecome!,Practice
END:VEVENT
BEGIN:VEVENT
DTSTART;TZID=America/Chicago:20211101T190000
DTEND;TZID=America/Chicago:20211101T210000
DTSTAMP:20260422T125551
CREATED:20211001T025643Z
LAST-MODIFIED:20211001T025643Z
UID:363-1635793200-1635800400@concertarts.org
SUMMARY:Practice
DESCRIPTION:We’d love to have you come practice with us.  🙂
URL:https://concertarts.org/event/practice-6/
LOCATION:Connection Christian Church\, 1332 Feise Road\, Dardenne Prairie\, MO\, 63368\, United States
CATEGORIES:New Members Wecome!,Practice
END:VEVENT
BEGIN:VEVENT
DTSTART;TZID=America/Chicago:20211025T190000
DTEND;TZID=America/Chicago:20211025T210000
DTSTAMP:20260422T125551
CREATED:20211001T025622Z
LAST-MODIFIED:20211001T025622Z
UID:361-1635188400-1635195600@concertarts.org
SUMMARY:Practice
DESCRIPTION:We’d love to have you come practice with us.  🙂
URL:https://concertarts.org/event/practice-5/
LOCATION:Connection Christian Church\, 1332 Feise Road\, Dardenne Prairie\, MO\, 63368\, United States
CATEGORIES:New Members Wecome!,Practice
END:VEVENT
BEGIN:VEVENT
DTSTART;TZID=America/Chicago:20211018T190000
DTEND;TZID=America/Chicago:20211018T210000
DTSTAMP:20260422T125551
CREATED:20211001T024436Z
LAST-MODIFIED:20211001T024436Z
UID:358-1634583600-1634590800@concertarts.org
SUMMARY:Practice
DESCRIPTION:We’d love to have you come practice with us.  🙂
URL:https://concertarts.org/event/practice-4/
LOCATION:Connection Christian Church\, 1332 Feise Road\, Dardenne Prairie\, MO\, 63368\, United States
CATEGORIES:New Members Wecome!,Practice
END:VEVENT
BEGIN:VEVENT
DTSTART;TZID=America/Chicago:20211011T190000
DTEND;TZID=America/Chicago:20211011T210000
DTSTAMP:20260422T125551
CREATED:20211001T024410Z
LAST-MODIFIED:20211001T024410Z
UID:357-1633978800-1633986000@concertarts.org
SUMMARY:Practice
DESCRIPTION:We’d love to have you come practice with us.  🙂
URL:https://concertarts.org/event/practice-3/
LOCATION:Connection Christian Church\, 1332 Feise Road\, Dardenne Prairie\, MO\, 63368\, United States
CATEGORIES:New Members Wecome!,Practice
END:VEVENT
BEGIN:VEVENT
DTSTART;TZID=America/Chicago:20211004T190000
DTEND;TZID=America/Chicago:20211004T210000
DTSTAMP:20260422T125551
CREATED:20211001T023201Z
LAST-MODIFIED:20211001T023358Z
UID:352-1633374000-1633381200@concertarts.org
SUMMARY:Practice
DESCRIPTION:We’d love to have you come practice with us.  🙂
URL:https://concertarts.org/event/practice-2/
LOCATION:Connection Christian Church\, 1332 Feise Road\, Dardenne Prairie\, MO\, 63368\, United States
CATEGORIES:New Members Wecome!,Practice
END:VEVENT
BEGIN:VEVENT
DTSTART;TZID=America/Chicago:20200927T150000
DTEND;TZID=America/Chicago:20200927T150000
DTSTAMP:20260422T125551
CREATED:20200913T160909Z
LAST-MODIFIED:20200913T160909Z
UID:303-1601218800-1601218800@concertarts.org
SUMMARY:Fall Picnic
DESCRIPTION:Socially distanced Picnic!  Save the Date.  Please respond to the email survey if you haven’t already. \nThis event is for members.  No performance is planned. \nIf you would like to become a member\, please contact us about attending!  This is a great chance to get to know us.
URL:https://concertarts.org/event/fall-picnic-2/
LOCATION:MO
CATEGORIES:Members Only,New Members Wecome!
END:VEVENT
BEGIN:VEVENT
DTSTART;TZID=America/Chicago:20200914T190000
DTEND;TZID=America/Chicago:20200914T200000
DTSTAMP:20260422T125551
CREATED:20200908T033117Z
LAST-MODIFIED:20200908T033117Z
UID:207-1600110000-1600113600@concertarts.org
SUMMARY:Music Pick Up - At Transfiguration
DESCRIPTION:Music packets will be ready for you to “drive by” and pick up. We will be wearing gloves & masks in order to keep us all safe.\n\nFor safety & in case we can perform in the spring please keep your music from last spring “Song\, American Style”. We will perform it when it is safe to sing together again.\n\nDrive by anytime between 7-8pm not necessary for everyone to arrive at 7pm. If you get there at 7:45 we will still have music for you 😊\n\nIf you are staying safe at home at all times\, just let us know if a family member can pick up your music for you! Let us know who to watch for and they can pick it up.\n\nInterested in becoming a member?  Please contact us and we’ll get you set up with a packet too!
URL:https://concertarts.org/event/practice/
LOCATION:MO
CATEGORIES:Members Only,New Members Wecome!
END:VEVENT
END:VCALENDAR