BEGIN:VCALENDAR
VERSION:2.0
PRODID:-//CAS - Choral Arts Singers - ECPv6.15.20//NONSGML v1.0//EN
CALSCALE:GREGORIAN
METHOD:PUBLISH
X-WR-CALNAME:CAS - Choral Arts Singers
X-ORIGINAL-URL:https://concertarts.org
X-WR-CALDESC:Events for CAS - Choral Arts Singers
REFRESH-INTERVAL;VALUE=DURATION:PT1H
X-Robots-Tag:noindex
X-PUBLISHED-TTL:PT1H
BEGIN:VTIMEZONE
TZID:America/Chicago
BEGIN:DAYLIGHT
TZOFFSETFROM:-0600
TZOFFSETTO:-0500
TZNAME:CDT
DTSTART:20240310T080000
END:DAYLIGHT
BEGIN:STANDARD
TZOFFSETFROM:-0500
TZOFFSETTO:-0600
TZNAME:CST
DTSTART:20241103T070000
END:STANDARD
BEGIN:DAYLIGHT
TZOFFSETFROM:-0600
TZOFFSETTO:-0500
TZNAME:CDT
DTSTART:20250309T080000
END:DAYLIGHT
BEGIN:STANDARD
TZOFFSETFROM:-0500
TZOFFSETTO:-0600
TZNAME:CST
DTSTART:20251102T070000
END:STANDARD
BEGIN:DAYLIGHT
TZOFFSETFROM:-0600
TZOFFSETTO:-0500
TZNAME:CDT
DTSTART:20260308T080000
END:DAYLIGHT
BEGIN:STANDARD
TZOFFSETFROM:-0500
TZOFFSETTO:-0600
TZNAME:CST
DTSTART:20261101T070000
END:STANDARD
BEGIN:DAYLIGHT
TZOFFSETFROM:-0600
TZOFFSETTO:-0500
TZNAME:CDT
DTSTART:20270314T080000
END:DAYLIGHT
BEGIN:STANDARD
TZOFFSETFROM:-0500
TZOFFSETTO:-0600
TZNAME:CST
DTSTART:20271107T070000
END:STANDARD
END:VTIMEZONE
BEGIN:VEVENT
DTSTART;TZID=America/Chicago:20260420T190000
DTEND;TZID=America/Chicago:20260420T210000
DTSTAMP:20260422T064457
CREATED:20260109T063535Z
LAST-MODIFIED:20260109T063535Z
UID:990-1776711600-1776718800@concertarts.org
SUMMARY:Practice!
DESCRIPTION:Let’s practice singing! \nMondays at Chapel of the Lake in Lake Saint Louis. \nTime: 7PM \nPlace: Chapel of the Lake 11000 Veterans Memorial Pkwy Lake St Louis\, MO 63367 \n\n 
URL:https://concertarts.org/event/practice-51/
LOCATION:Chapel of the Lake\, 11000 Veterans Memorial Pkwy\, Lake St Louis\, MO\, 63367\, United States
CATEGORIES:Practice
ATTACH;FMTTYPE=image/jpeg:https://concertarts.org/wp-content/uploads/2020/09/ChoirPractice.jpg
END:VEVENT
BEGIN:VEVENT
DTSTART;TZID=America/Chicago:20260413T190000
DTEND;TZID=America/Chicago:20260413T210000
DTSTAMP:20260422T064457
CREATED:20260109T063500Z
LAST-MODIFIED:20260109T063500Z
UID:991-1776106800-1776114000@concertarts.org
SUMMARY:Practice!
DESCRIPTION:Let’s practice singing! \nMondays at Chapel of the Lake in Lake Saint Louis. \nTime: 7PM \nPlace: Chapel of the Lake 11000 Veterans Memorial Pkwy Lake St Louis\, MO 63367 \n\n 
URL:https://concertarts.org/event/practice-50/
LOCATION:Chapel of the Lake\, 11000 Veterans Memorial Pkwy\, Lake St Louis\, MO\, 63367\, United States
CATEGORIES:Practice
ATTACH;FMTTYPE=image/jpeg:https://concertarts.org/wp-content/uploads/2020/09/ChoirPractice.jpg
END:VEVENT
BEGIN:VEVENT
DTSTART;TZID=America/Chicago:20260406T190000
DTEND;TZID=America/Chicago:20260406T210000
DTSTAMP:20260422T064457
CREATED:20260109T063427Z
LAST-MODIFIED:20260109T063427Z
UID:992-1775502000-1775509200@concertarts.org
SUMMARY:Practice!
DESCRIPTION:Let’s practice singing! \nMondays at Chapel of the Lake in Lake Saint Louis. \nTime: 7PM \nPlace: Chapel of the Lake 11000 Veterans Memorial Pkwy Lake St Louis\, MO 63367 \n\n 
URL:https://concertarts.org/event/practice-49/
LOCATION:Chapel of the Lake\, 11000 Veterans Memorial Pkwy\, Lake St Louis\, MO\, 63367\, United States
CATEGORIES:Practice
ATTACH;FMTTYPE=image/jpeg:https://concertarts.org/wp-content/uploads/2020/09/ChoirPractice.jpg
END:VEVENT
BEGIN:VEVENT
DTSTART;TZID=America/Chicago:20260330T190000
DTEND;TZID=America/Chicago:20260330T210000
DTSTAMP:20260422T064457
CREATED:20260109T063324Z
LAST-MODIFIED:20260109T063324Z
UID:993-1774897200-1774904400@concertarts.org
SUMMARY:Practice!
DESCRIPTION:Let’s practice singing! \nMondays at Chapel of the Lake in Lake Saint Louis. \nTime: 7PM \nPlace: Chapel of the Lake 11000 Veterans Memorial Pkwy Lake St Louis\, MO 63367 \n\n 
URL:https://concertarts.org/event/practice-48/
LOCATION:Chapel of the Lake\, 11000 Veterans Memorial Pkwy\, Lake St Louis\, MO\, 63367\, United States
CATEGORIES:Practice
ATTACH;FMTTYPE=image/jpeg:https://concertarts.org/wp-content/uploads/2020/09/ChoirPractice.jpg
END:VEVENT
BEGIN:VEVENT
DTSTART;TZID=America/Chicago:20260316T190000
DTEND;TZID=America/Chicago:20260316T210000
DTSTAMP:20260422T064457
CREATED:20260109T063219Z
LAST-MODIFIED:20260109T063219Z
UID:994-1773687600-1773694800@concertarts.org
SUMMARY:Practice!
DESCRIPTION:Let’s practice singing! \nMondays at Chapel of the Lake in Lake Saint Louis. \nTime: 7PM \nPlace: Chapel of the Lake 11000 Veterans Memorial Pkwy Lake St Louis\, MO 63367 \n\n 
URL:https://concertarts.org/event/practice-46/
LOCATION:Chapel of the Lake\, 11000 Veterans Memorial Pkwy\, Lake St Louis\, MO\, 63367\, United States
CATEGORIES:Practice
ATTACH;FMTTYPE=image/jpeg:https://concertarts.org/wp-content/uploads/2020/09/ChoirPractice.jpg
END:VEVENT
BEGIN:VEVENT
DTSTART;TZID=America/Chicago:20260309T190000
DTEND;TZID=America/Chicago:20260309T210000
DTSTAMP:20260422T064457
CREATED:20260109T063148Z
LAST-MODIFIED:20260109T063148Z
UID:996-1773082800-1773090000@concertarts.org
SUMMARY:Practice!
DESCRIPTION:Let’s practice singing! \nMondays at Chapel of the Lake in Lake Saint Louis. \nTime: 7PM \nPlace: Chapel of the Lake 11000 Veterans Memorial Pkwy Lake St Louis\, MO 63367 \n\n 
URL:https://concertarts.org/event/practice-45/
LOCATION:Chapel of the Lake\, 11000 Veterans Memorial Pkwy\, Lake St Louis\, MO\, 63367\, United States
CATEGORIES:Practice
ATTACH;FMTTYPE=image/jpeg:https://concertarts.org/wp-content/uploads/2020/09/ChoirPractice.jpg
END:VEVENT
BEGIN:VEVENT
DTSTART;TZID=America/Chicago:20260302T190000
DTEND;TZID=America/Chicago:20260302T210000
DTSTAMP:20260422T064457
CREATED:20260109T063103Z
LAST-MODIFIED:20260109T063103Z
UID:997-1772478000-1772485200@concertarts.org
SUMMARY:Practice!
DESCRIPTION:Let’s practice singing! \nMondays at Chapel of the Lake in Lake Saint Louis. \nTime: 7PM \nPlace: Chapel of the Lake 11000 Veterans Memorial Pkwy Lake St Louis\, MO 63367 \n\n 
URL:https://concertarts.org/event/practice-44/
LOCATION:Chapel of the Lake\, 11000 Veterans Memorial Pkwy\, Lake St Louis\, MO\, 63367\, United States
CATEGORIES:Practice
ATTACH;FMTTYPE=image/jpeg:https://concertarts.org/wp-content/uploads/2020/09/ChoirPractice.jpg
END:VEVENT
BEGIN:VEVENT
DTSTART;TZID=America/Chicago:20260223T190000
DTEND;TZID=America/Chicago:20260223T210000
DTSTAMP:20260422T064457
CREATED:20260109T063036Z
LAST-MODIFIED:20260109T063036Z
UID:999-1771873200-1771880400@concertarts.org
SUMMARY:Practice!
DESCRIPTION:Let’s practice singing! \nMondays at Chapel of the Lake in Lake Saint Louis. \nTime: 7PM \nPlace: Chapel of the Lake 11000 Veterans Memorial Pkwy Lake St Louis\, MO 63367 \n\n 
URL:https://concertarts.org/event/practice-43/
LOCATION:Chapel of the Lake\, 11000 Veterans Memorial Pkwy\, Lake St Louis\, MO\, 63367\, United States
CATEGORIES:Practice
ATTACH;FMTTYPE=image/jpeg:https://concertarts.org/wp-content/uploads/2020/09/ChoirPractice.jpg
END:VEVENT
BEGIN:VEVENT
DTSTART;TZID=America/Chicago:20260216T190000
DTEND;TZID=America/Chicago:20260216T210000
DTSTAMP:20260422T064457
CREATED:20260109T063003Z
LAST-MODIFIED:20260109T063003Z
UID:1000-1771268400-1771275600@concertarts.org
SUMMARY:Practice!
DESCRIPTION:Let’s practice singing! \nMondays at Chapel of the Lake in Lake Saint Louis. \nTime: 7PM \nPlace: Chapel of the Lake 11000 Veterans Memorial Pkwy Lake St Louis\, MO 63367 \n\n 
URL:https://concertarts.org/event/practice-42/
LOCATION:Chapel of the Lake\, 11000 Veterans Memorial Pkwy\, Lake St Louis\, MO\, 63367\, United States
CATEGORIES:Practice
ATTACH;FMTTYPE=image/jpeg:https://concertarts.org/wp-content/uploads/2020/09/ChoirPractice.jpg
END:VEVENT
BEGIN:VEVENT
DTSTART;TZID=America/Chicago:20260209T190000
DTEND;TZID=America/Chicago:20260209T210000
DTSTAMP:20260422T064457
CREATED:20260109T062919Z
LAST-MODIFIED:20260109T062919Z
UID:998-1770663600-1770670800@concertarts.org
SUMMARY:Practice!
DESCRIPTION:Let’s practice singing! \nMondays at Chapel of the Lake in Lake Saint Louis. \nTime: 7PM \nPlace: Chapel of the Lake 11000 Veterans Memorial Pkwy Lake St Louis\, MO 63367 \n\n 
URL:https://concertarts.org/event/practice-41/
LOCATION:Chapel of the Lake\, 11000 Veterans Memorial Pkwy\, Lake St Louis\, MO\, 63367\, United States
CATEGORIES:Practice
ATTACH;FMTTYPE=image/jpeg:https://concertarts.org/wp-content/uploads/2020/09/ChoirPractice.jpg
END:VEVENT
BEGIN:VEVENT
DTSTART;TZID=America/Chicago:20260202T190000
DTEND;TZID=America/Chicago:20260202T210000
DTSTAMP:20260422T064457
CREATED:20260109T062815Z
LAST-MODIFIED:20260109T062815Z
UID:988-1770058800-1770066000@concertarts.org
SUMMARY:Practice!
DESCRIPTION:Let’s practice singing! \nMondays at Chapel of the Lake in Lake Saint Louis. \nTime: 7PM \nPlace: Chapel of the Lake 11000 Veterans Memorial Pkwy Lake St Louis\, MO 63367 \n\n 
URL:https://concertarts.org/event/practice-40/
LOCATION:Chapel of the Lake\, 11000 Veterans Memorial Pkwy\, Lake St Louis\, MO\, 63367\, United States
CATEGORIES:Practice
ATTACH;FMTTYPE=image/jpeg:https://concertarts.org/wp-content/uploads/2020/09/ChoirPractice.jpg
END:VEVENT
BEGIN:VEVENT
DTSTART;TZID=America/Chicago:20260126T190000
DTEND;TZID=America/Chicago:20260126T210000
DTSTAMP:20260422T064457
CREATED:20260109T062747Z
LAST-MODIFIED:20260109T062747Z
UID:987-1769454000-1769461200@concertarts.org
SUMMARY:Practice!
DESCRIPTION:Let’s practice singing! \nMondays at Chapel of the Lake in Lake Saint Louis. \nTime: 7PM \nPlace: Chapel of the Lake 11000 Veterans Memorial Pkwy Lake St Louis\, MO 63367 \n\n 
URL:https://concertarts.org/event/practice-39/
LOCATION:Chapel of the Lake\, 11000 Veterans Memorial Pkwy\, Lake St Louis\, MO\, 63367\, United States
CATEGORIES:Practice
ATTACH;FMTTYPE=image/jpeg:https://concertarts.org/wp-content/uploads/2020/09/ChoirPractice.jpg
END:VEVENT
BEGIN:VEVENT
DTSTART;TZID=America/Chicago:20260119T190000
DTEND;TZID=America/Chicago:20260119T210000
DTSTAMP:20260422T064457
CREATED:20260109T062719Z
LAST-MODIFIED:20260109T062719Z
UID:986-1768849200-1768856400@concertarts.org
SUMMARY:Practice!
DESCRIPTION:Let’s practice singing! \nMondays at Chapel of the Lake in Lake Saint Louis. \nTime: 7PM \nPlace: Chapel of the Lake 11000 Veterans Memorial Pkwy Lake St Louis\, MO 63367 \n\n 
URL:https://concertarts.org/event/practice-38/
LOCATION:Chapel of the Lake\, 11000 Veterans Memorial Pkwy\, Lake St Louis\, MO\, 63367\, United States
CATEGORIES:Practice
ATTACH;FMTTYPE=image/jpeg:https://concertarts.org/wp-content/uploads/2020/09/ChoirPractice.jpg
END:VEVENT
BEGIN:VEVENT
DTSTART;TZID=America/Chicago:20260112T190000
DTEND;TZID=America/Chicago:20260323T210000
DTSTAMP:20260422T064457
CREATED:20260109T063250Z
LAST-MODIFIED:20260109T063250Z
UID:995-1768244400-1774299600@concertarts.org
SUMMARY:Practice!
DESCRIPTION:Let’s practice singing! \nMondays at Chapel of the Lake in Lake Saint Louis. \nTime: 7PM \nPlace: Chapel of the Lake 11000 Veterans Memorial Pkwy Lake St Louis\, MO 63367 \n\n 
URL:https://concertarts.org/event/practice-47/
LOCATION:Chapel of the Lake\, 11000 Veterans Memorial Pkwy\, Lake St Louis\, MO\, 63367\, United States
CATEGORIES:Practice
ATTACH;FMTTYPE=image/jpeg:https://concertarts.org/wp-content/uploads/2020/09/ChoirPractice.jpg
END:VEVENT
BEGIN:VEVENT
DTSTART;TZID=America/Chicago:20260112T190000
DTEND;TZID=America/Chicago:20260112T210000
DTSTAMP:20260422T064457
CREATED:20260109T062100Z
LAST-MODIFIED:20260109T062649Z
UID:983-1768244400-1768251600@concertarts.org
SUMMARY:First Practice of 2026!
DESCRIPTION:Let’s practice singing! \nMondays at Chapel of the Lake in Lake Saint Louis. \nTime: 7PM \nPlace: Chapel of the Lake 11000 Veterans Memorial Pkwy Lake St Louis\, MO 63367 \n\n 
URL:https://concertarts.org/event/practice-37/
LOCATION:Chapel of the Lake\, 11000 Veterans Memorial Pkwy\, Lake St Louis\, MO\, 63367\, United States
CATEGORIES:Practice
ATTACH;FMTTYPE=image/jpeg:https://concertarts.org/wp-content/uploads/2020/09/ChoirPractice.jpg
END:VEVENT
BEGIN:VEVENT
DTSTART;TZID=America/Chicago:20251208T190000
DTEND;TZID=America/Chicago:20251208T210000
DTSTAMP:20260422T064457
CREATED:20250828T053951Z
LAST-MODIFIED:20250828T053951Z
UID:933-1765220400-1765227600@concertarts.org
SUMMARY:Practice!  (New Location!)
DESCRIPTION:Let’s practice singing! \nMondays at Chapel of the Lake in Lake Saint Louis. \nTime: 7PM \nPlace: Chapel of the Lake 11000 Veterans Memorial Pkwy Lake St Louis\, MO 63367 \n\n 
URL:https://concertarts.org/event/practice-new-location-14/
LOCATION:Chapel of the Lake\, 11000 Veterans Memorial Pkwy\, Lake St Louis\, MO\, 63367\, United States
CATEGORIES:Practice
ATTACH;FMTTYPE=image/jpeg:https://concertarts.org/wp-content/uploads/2020/09/ChoirPractice.jpg
END:VEVENT
BEGIN:VEVENT
DTSTART;TZID=America/Chicago:20251205T183000
DTEND;TZID=America/Chicago:20251205T200000
DTSTAMP:20260422T064457
CREATED:20251204T235225Z
LAST-MODIFIED:20251204T235714Z
UID:967-1764959400-1764964800@concertarts.org
SUMMARY:Rescheduled Practice!  (New Location!)
DESCRIPTION:Rescheduled! Choir practice is now set for tomorrow\, Friday the 5th\, 6:30pm to 8pm\, at Chapel of the Lake (same place).Also\, don’t forget we have another regular practice next week Monday the 8th\, 7-9pm. We will fine tune our songs ahead of our concert at Assumption on Sunday Dec14.  \nPlace: Chapel of the Lake 11000 Veterans Memorial Pkwy Lake St Louis\, MO 63367 \n\n 
URL:https://concertarts.org/event/rescheduled-practice-new-location/
LOCATION:Chapel of the Lake\, 11000 Veterans Memorial Pkwy\, Lake St Louis\, MO\, 63367\, United States
CATEGORIES:Practice
ATTACH;FMTTYPE=image/jpeg:https://concertarts.org/wp-content/uploads/2020/09/ChoirPractice.jpg
END:VEVENT
BEGIN:VEVENT
DTSTART;TZID=America/Chicago:20251201T190000
DTEND;TZID=America/Chicago:20251201T210000
DTSTAMP:20260422T064457
CREATED:20250828T053753Z
LAST-MODIFIED:20251201T222447Z
UID:931-1764615600-1764622800@concertarts.org
SUMMARY:POSTPONED!  12/1 Practice!  (New Location!)
DESCRIPTION:EDIT: Hi Choir friends\, due to the storm\, our rehearsal for Monday Night 12/1/2025 has been cancelled. Please check your email for a make-up rehearsal. Also\, remember that we have performances on Saturday the 6th\, Sunday the 7th\, and Sunday the 14th! Hope to see everyone there. 🙂————Let’s practice singing! \nMondays at Chapel of the Lake in Lake Saint Louis. \nTime: 7PM \nPlace: Chapel of the Lake 11000 Veterans Memorial Pkwy Lake St Louis\, MO 63367 \n\n 
URL:https://concertarts.org/event/practice-new-location-13/
LOCATION:Chapel of the Lake\, 11000 Veterans Memorial Pkwy\, Lake St Louis\, MO\, 63367\, United States
CATEGORIES:Practice
ATTACH;FMTTYPE=image/jpeg:https://concertarts.org/wp-content/uploads/2020/09/ChoirPractice.jpg
END:VEVENT
BEGIN:VEVENT
DTSTART;TZID=America/Chicago:20251124T190000
DTEND;TZID=America/Chicago:20251124T210000
DTSTAMP:20260422T064457
CREATED:20250828T053713Z
LAST-MODIFIED:20250828T053713Z
UID:929-1764010800-1764018000@concertarts.org
SUMMARY:Practice!  (New Location!)
DESCRIPTION:Let’s practice singing! \nMondays at Chapel of the Lake in Lake Saint Louis. \nTime: 7PM \nPlace: Chapel of the Lake 11000 Veterans Memorial Pkwy Lake St Louis\, MO 63367 \n\n 
URL:https://concertarts.org/event/practice-new-location-12/
LOCATION:Chapel of the Lake\, 11000 Veterans Memorial Pkwy\, Lake St Louis\, MO\, 63367\, United States
CATEGORIES:Practice
ATTACH;FMTTYPE=image/jpeg:https://concertarts.org/wp-content/uploads/2020/09/ChoirPractice.jpg
END:VEVENT
BEGIN:VEVENT
DTSTART;TZID=America/Chicago:20251117T190000
DTEND;TZID=America/Chicago:20251117T210000
DTSTAMP:20260422T064457
CREATED:20250828T053627Z
LAST-MODIFIED:20250828T053627Z
UID:927-1763406000-1763413200@concertarts.org
SUMMARY:Practice!  (New Location!)
DESCRIPTION:Let’s practice singing! \nMondays at Chapel of the Lake in Lake Saint Louis. \nTime: 7PM \nPlace: Chapel of the Lake 11000 Veterans Memorial Pkwy Lake St Louis\, MO 63367 \n\n 
URL:https://concertarts.org/event/practice-new-location-11/
LOCATION:Chapel of the Lake\, 11000 Veterans Memorial Pkwy\, Lake St Louis\, MO\, 63367\, United States
CATEGORIES:Practice
ATTACH;FMTTYPE=image/jpeg:https://concertarts.org/wp-content/uploads/2020/09/ChoirPractice.jpg
END:VEVENT
BEGIN:VEVENT
DTSTART;TZID=America/Chicago:20251110T190000
DTEND;TZID=America/Chicago:20251110T210000
DTSTAMP:20260422T064457
CREATED:20250828T053517Z
LAST-MODIFIED:20250828T053517Z
UID:925-1762801200-1762808400@concertarts.org
SUMMARY:Practice!  (New Location!)
DESCRIPTION:Let’s practice singing! \nMondays at Chapel of the Lake in Lake Saint Louis. \nTime: 7PM \nPlace: Chapel of the Lake 11000 Veterans Memorial Pkwy Lake St Louis\, MO 63367 \n\n 
URL:https://concertarts.org/event/practice-new-location-10/
LOCATION:Chapel of the Lake\, 11000 Veterans Memorial Pkwy\, Lake St Louis\, MO\, 63367\, United States
CATEGORIES:Practice
ATTACH;FMTTYPE=image/jpeg:https://concertarts.org/wp-content/uploads/2020/09/ChoirPractice.jpg
END:VEVENT
BEGIN:VEVENT
DTSTART;TZID=America/Chicago:20251103T190000
DTEND;TZID=America/Chicago:20251103T210000
DTSTAMP:20260422T064457
CREATED:20250828T053449Z
LAST-MODIFIED:20250828T053449Z
UID:923-1762196400-1762203600@concertarts.org
SUMMARY:Practice!  (New Location!)
DESCRIPTION:Let’s practice singing! \nMondays at Chapel of the Lake in Lake Saint Louis. \nTime: 7PM \nPlace: Chapel of the Lake 11000 Veterans Memorial Pkwy Lake St Louis\, MO 63367 \n\n 
URL:https://concertarts.org/event/practice-new-location-9/
LOCATION:Chapel of the Lake\, 11000 Veterans Memorial Pkwy\, Lake St Louis\, MO\, 63367\, United States
CATEGORIES:Practice
ATTACH;FMTTYPE=image/jpeg:https://concertarts.org/wp-content/uploads/2020/09/ChoirPractice.jpg
END:VEVENT
BEGIN:VEVENT
DTSTART;TZID=America/Chicago:20251027T190000
DTEND;TZID=America/Chicago:20251027T210000
DTSTAMP:20260422T064457
CREATED:20250828T053246Z
LAST-MODIFIED:20250828T053246Z
UID:921-1761591600-1761598800@concertarts.org
SUMMARY:Practice!  (New Location!)
DESCRIPTION:Let’s practice singing! \nMondays at Chapel of the Lake in Lake Saint Louis. \nTime: 7PM \nPlace: Chapel of the Lake 11000 Veterans Memorial Pkwy Lake St Louis\, MO 63367 \n\n 
URL:https://concertarts.org/event/practice-new-location-8/
LOCATION:Chapel of the Lake\, 11000 Veterans Memorial Pkwy\, Lake St Louis\, MO\, 63367\, United States
CATEGORIES:Practice
ATTACH;FMTTYPE=image/jpeg:https://concertarts.org/wp-content/uploads/2020/09/ChoirPractice.jpg
END:VEVENT
BEGIN:VEVENT
DTSTART;TZID=America/Chicago:20251020T190000
DTEND;TZID=America/Chicago:20251020T210000
DTSTAMP:20260422T064457
CREATED:20250828T052938Z
LAST-MODIFIED:20250828T052938Z
UID:919-1760986800-1760994000@concertarts.org
SUMMARY:Practice!  (New Location!)
DESCRIPTION:Let’s practice singing! \nMondays at Chapel of the Lake in Lake Saint Louis. \nTime: 7PM \nPlace: Chapel of the Lake 11000 Veterans Memorial Pkwy Lake St Louis\, MO 63367 \n\n 
URL:https://concertarts.org/event/practice-new-location-7/
LOCATION:Chapel of the Lake\, 11000 Veterans Memorial Pkwy\, Lake St Louis\, MO\, 63367\, United States
CATEGORIES:Practice
ATTACH;FMTTYPE=image/jpeg:https://concertarts.org/wp-content/uploads/2020/09/ChoirPractice.jpg
END:VEVENT
BEGIN:VEVENT
DTSTART;TZID=America/Chicago:20251013T190000
DTEND;TZID=America/Chicago:20251013T210000
DTSTAMP:20260422T064457
CREATED:20250828T052725Z
LAST-MODIFIED:20250828T052725Z
UID:917-1760382000-1760389200@concertarts.org
SUMMARY:Practice!  (New Location!)
DESCRIPTION:Let’s practice singing! \nMondays at Chapel of the Lake in Lake Saint Louis. \nTime: 7PM \nPlace: Chapel of the Lake 11000 Veterans Memorial Pkwy Lake St Louis\, MO 63367 \n\n 
URL:https://concertarts.org/event/practice-new-location-6/
LOCATION:Chapel of the Lake\, 11000 Veterans Memorial Pkwy\, Lake St Louis\, MO\, 63367\, United States
CATEGORIES:Practice
ATTACH;FMTTYPE=image/jpeg:https://concertarts.org/wp-content/uploads/2020/09/ChoirPractice.jpg
END:VEVENT
BEGIN:VEVENT
DTSTART;TZID=America/Chicago:20251006T190000
DTEND;TZID=America/Chicago:20251006T210000
DTSTAMP:20260422T064457
CREATED:20250828T052235Z
LAST-MODIFIED:20250828T052235Z
UID:915-1759777200-1759784400@concertarts.org
SUMMARY:Practice!  (New Location!)
DESCRIPTION:Let’s practice singing! \nMondays at Chapel of the Lake in Lake Saint Louis. \nTime: 7PM \nPlace: Chapel of the Lake 11000 Veterans Memorial Pkwy Lake St Louis\, MO 63367 \n\n 
URL:https://concertarts.org/event/practice-new-location-5/
LOCATION:Chapel of the Lake\, 11000 Veterans Memorial Pkwy\, Lake St Louis\, MO\, 63367\, United States
CATEGORIES:Practice
ATTACH;FMTTYPE=image/jpeg:https://concertarts.org/wp-content/uploads/2020/09/ChoirPractice.jpg
END:VEVENT
BEGIN:VEVENT
DTSTART;TZID=America/Chicago:20250929T190000
DTEND;TZID=America/Chicago:20250929T210000
DTSTAMP:20260422T064457
CREATED:20250828T052209Z
LAST-MODIFIED:20250828T052209Z
UID:913-1759172400-1759179600@concertarts.org
SUMMARY:Practice!  (New Location!)
DESCRIPTION:Let’s practice singing! \nMondays at Chapel of the Lake in Lake Saint Louis. \nTime: 7PM \nPlace: Chapel of the Lake 11000 Veterans Memorial Pkwy Lake St Louis\, MO 63367 \n\n 
URL:https://concertarts.org/event/practice-new-location-4/
LOCATION:Chapel of the Lake\, 11000 Veterans Memorial Pkwy\, Lake St Louis\, MO\, 63367\, United States
CATEGORIES:Practice
ATTACH;FMTTYPE=image/jpeg:https://concertarts.org/wp-content/uploads/2020/09/ChoirPractice.jpg
END:VEVENT
BEGIN:VEVENT
DTSTART;TZID=America/Chicago:20250922T190000
DTEND;TZID=America/Chicago:20250922T210000
DTSTAMP:20260422T064457
CREATED:20250828T052111Z
LAST-MODIFIED:20250828T052124Z
UID:910-1758567600-1758574800@concertarts.org
SUMMARY:Practice!  (New Location!)
DESCRIPTION:Let’s practice singing! \nMondays at Chapel of the Lake in Lake Saint Louis. \nTime: 7PM \nPlace: Chapel of the Lake 11000 Veterans Memorial Pkwy Lake St Louis\, MO 63367 \n\n 
URL:https://concertarts.org/event/practice-new-location-3/
LOCATION:Chapel of the Lake\, 11000 Veterans Memorial Pkwy\, Lake St Louis\, MO\, 63367\, United States
CATEGORIES:Practice
ATTACH;FMTTYPE=image/jpeg:https://concertarts.org/wp-content/uploads/2020/09/ChoirPractice.jpg
END:VEVENT
BEGIN:VEVENT
DTSTART;TZID=America/Chicago:20250915T190000
DTEND;TZID=America/Chicago:20250915T210000
DTSTAMP:20260422T064457
CREATED:20250828T052047Z
LAST-MODIFIED:20250828T052047Z
UID:908-1757962800-1757970000@concertarts.org
SUMMARY:Practice!  (New Location!)
DESCRIPTION:Let’s practice singing! \nMondays at Chapel of the Lake in Lake Saint Louis. \nTime: 7PM \nPlace: Chapel of the Lake 11000 Veterans Memorial Pkwy Lake St Louis\, MO 63367 \n\n 
URL:https://concertarts.org/event/practice-new-location-2/
LOCATION:Chapel of the Lake\, 11000 Veterans Memorial Pkwy\, Lake St Louis\, MO\, 63367\, United States
CATEGORIES:Practice
ATTACH;FMTTYPE=image/jpeg:https://concertarts.org/wp-content/uploads/2020/09/ChoirPractice.jpg
END:VEVENT
BEGIN:VEVENT
DTSTART;TZID=America/Chicago:20250908T190000
DTEND;TZID=America/Chicago:20250908T210000
DTSTAMP:20260422T064457
CREATED:20250828T052012Z
LAST-MODIFIED:20250828T052012Z
UID:901-1757358000-1757365200@concertarts.org
SUMMARY:Practice!  (New Location!)
DESCRIPTION:Let’s practice singing! \nMondays at Chapel of the Lake in Lake Saint Louis. \nTime: 7PM \nPlace: Chapel of the Lake 11000 Veterans Memorial Pkwy Lake St Louis\, MO 63367 \n\n 
URL:https://concertarts.org/event/practice-new-location/
LOCATION:Chapel of the Lake\, 11000 Veterans Memorial Pkwy\, Lake St Louis\, MO\, 63367\, United States
CATEGORIES:Practice
ATTACH;FMTTYPE=image/jpeg:https://concertarts.org/wp-content/uploads/2020/09/ChoirPractice.jpg
END:VEVENT
END:VCALENDAR